BEGIN:VCALENDAR
VERSION:2.0
PRODID:-//UniversalChurchStLucia - ECPv6.15.17//NONSGML v1.0//EN
CALSCALE:GREGORIAN
METHOD:PUBLISH
X-ORIGINAL-URL:https://universalchurchstlucia.org
X-WR-CALDESC:Events for UniversalChurchStLucia
REFRESH-INTERVAL;VALUE=DURATION:PT1H
X-Robots-Tag:noindex
X-PUBLISHED-TTL:PT1H
BEGIN:VTIMEZONE
TZID:UTC
BEGIN:STANDARD
TZOFFSETFROM:+0000
TZOFFSETTO:+0000
TZNAME:UTC
DTSTART:20240101T000000
END:STANDARD
END:VTIMEZONE
BEGIN:VEVENT
DTSTART;TZID=UTC:20251011T090000
DTEND;TZID=UTC:20251011T110000
DTSTAMP:20260419T132804
CREATED:20250905T213559Z
LAST-MODIFIED:20250905T220235Z
UID:10000002-1760173200-1760180400@universalchurchstlucia.org
SUMMARY:Love Walk 2025
DESCRIPTION:Brings Couples and Singles Together! \nThe Love Walk 2025 is more than just a walk in the park or garden; it is a unique opportunity to develop and strengthen meaningful relationships and a reminder that love\, whether blossoming or longstanding\, requires attention\, wisdom and commitment. For more information how to take part of it call to: +1 (758) 730-4040 and talk to one of our pastor. \n 
URL:https://universalchurchstlucia.org/calendar/love-walk-2025/
LOCATION:(Will be post here soon) – Just check out!  \, 25 Brazil Street\, Gros-Islet\, Saint Lucia
ATTACH;FMTTYPE=image/jpeg:https://universalchurchstlucia.org/wp-content/uploads/2025/08/TLW_2025.jpg
ORGANIZER;CN="The Universal Church":MAILTO:info@universalchurchstlucia.org
END:VEVENT
END:VCALENDAR